BEGIN:VCALENDAR
VERSION:2.0
PRODID:-//Flavia se Cuida Foundation - ECPv6.13.0//NONSGML v1.0//EN
CALSCALE:GREGORIAN
METHOD:PUBLISH
X-ORIGINAL-URL:https://flaviasecuida.org
X-WR-CALDESC:Eventos para Flavia se Cuida Foundation
REFRESH-INTERVAL;VALUE=DURATION:PT1H
X-Robots-Tag:noindex
X-PUBLISHED-TTL:PT1H
BEGIN:VTIMEZONE
TZID:America/Sao_Paulo
BEGIN:STANDARD
TZOFFSETFROM:-0300
TZOFFSETTO:-0300
TZNAME:-03
DTSTART:20250101T000000
END:STANDARD
END:VTIMEZONE
BEGIN:VTIMEZONE
TZID:America/Halifax
BEGIN:DAYLIGHT
TZOFFSETFROM:-0400
TZOFFSETTO:-0300
TZNAME:ADT
DTSTART:20260308T060000
END:DAYLIGHT
BEGIN:STANDARD
TZOFFSETFROM:-0300
TZOFFSETTO:-0400
TZNAME:AST
DTSTART:20261101T050000
END:STANDARD
END:VTIMEZONE
BEGIN:VEVENT
DTSTART;TZID=America/Sao_Paulo:20251116T130000
DTEND;TZID=America/Sao_Paulo:20251116T170000
DTSTAMP:20260422T193637
CREATED:20250819T144535Z
LAST-MODIFIED:20251115T025640Z
UID:1711-1763298000-1763312400@flaviasecuida.org
SUMMARY:14º Encontro Presencial de Mulheres "Aprendendo a Se Amar"
DESCRIPTION:Descubra quem você é quando ninguém está olhando. \nUma pausa para sentir quem você é de verdade.  \nEste projeto nasce com foco social. \nO Projeto Flavia Se Cuida e suas iniciativas vem fortalecendo e ampliando o cuidado de mulheres na comunidade. \n  \n Missão do Encontro: \nPromover um encontro presencial exclusivo para mulheres\, com vivências e práticas voltadas ao fortalecimento da autoestima\, autocuidado e despertar do amor-próprio. \nCriar um espaço seguro\, acolhedor e transformador\, de cura e escuta\, através de vivências sensoriais e emocionais. Onde cada mulher possa se reconectar com sua verdadeira essência. \n  \nSponsor Responsável pelo Evento: Danyla Borobia – Psicóloga de formação no Brasil\, Terapeuta dos Saberes Femininos e Treinadora em Mudança Comportamental com Foco no Universo Feminino.  É criadora do Método CLAREAR\, um caminho que une consciência\, prática e intuição para transformar padrões e reconectar a mulher com sua essência. \n  \nAbertura Oficial do Encontro: Izabela Guimarães \nParticipação Especial: Rejane dos Santos \n  \nPatrocinadores Master: Marcela Mah Pies e Venture X pb \nPatrocinadores: Zen Wellness; RV Consultoria de MKT; Botoplace; Nathalia Shumacher; Fiori Di Vigore; Must University; Kiosque Coffee Shop \nParceiros: Vanessa Tessinari Joias; Mango Ótica; BBWM; Fiori Di Figore \nApoiadores: Mulheres Conectadas Flórida; Lincoln Cruvinel; Mara Luxe Organizer; Studio D Miami; Miami Be Happy; D’aroma Essence; Fairy Hands; AYA delights; JS Advanced Aesthetics \n  \nIngresso Experience: Alguns momentos pedem um cuidado especial \nO Jardim do Amor-Próprio\, um Lounge Experience pensado para quem deseja viver o encontro de forma mais íntima e inesquecível. \nCom acesso 2h antes da abertura\, você desfrutará: \n•⁠ ⁠Chair massage & escalda-pés\n•⁠ ⁠Welcome drink\n•⁠ ⁠Presentes e mimos especiais\n•⁠ ⁠1 Foto profissional para eternizar sua experiência\n•⁠ ⁠Brunch exclusivo com Flavia e Danyla\n•⁠ ⁠⁠Voucher $100 da Clínica Botoplace
URL:https://flaviasecuida.org/evento/14o-encontro-presencial-de-mulheres-aprendendo-a-se-amar/
LOCATION:VENTURE X\, 9555 SW 175th Terrace\, Palmetto Bay\, Florida\, 33157
CATEGORIES:Presencial
ATTACH;FMTTYPE=image/jpeg:https://flaviasecuida.org/wp-content/uploads/2025/08/WhatsApp-Image-2025-08-12-at-15.59.21.jpeg
END:VEVENT
BEGIN:VEVENT
DTSTART;TZID=America/Halifax:20260516T100000
DTEND;TZID=America/Halifax:20260516T170000
DTSTAMP:20260422T193637
CREATED:20260325T152417Z
LAST-MODIFIED:20260418T013853Z
UID:2147-1778925600-1778950800@flaviasecuida.org
SUMMARY:15º Encontro Presencial de Mulheres “Aprendendo a Se Amar”
DESCRIPTION:
URL:https://flaviasecuida.org/evento/15-aprendendo-a-se-amar/
LOCATION:Must University\, 70 SW 10th St\, Deerfield Beach\, Florida\, 33441\, United States
CATEGORIES:Presencial
ATTACH;FMTTYPE=image/png:https://flaviasecuida.org/wp-content/uploads/2026/03/destaque-site-11.69-x-8.27-in-Twitter-Post.png
ORGANIZER;CN="Flavia Se Cuida Foundation":MAILTO:projetoflaviasecuida@gmail.com
END:VEVENT
END:VCALENDAR